BEGIN:VCALENDAR
VERSION:2.0
PRODID:-//eventon.com NONSGML v1.0//EN
BEGIN:VEVENT
UID:69eb0064aee75
DTSTAMP:20260424T073220
DTSTART:20251011T180000Z
DTEND:20251011T190000Z
LOCATION:Malteserkirche Wien Kärntnerstraße 37\,  1010 Wien
SUMMARY:Trompete und Orgel - Konzert in der Malteserkirche
DESCRIPTION: [vc_row][vc_column][vc_column_text]Folgende Konzerte und Veranstaltungen finden in der Malteserkirche in Wien statt: Trompete und Orgel Das einstündige klassische Konzert mit Trompete und Barockorgel (bekannte Werke von Bach\,  Mozart\,  Händel u.a.) in der Malteserkirche\,  ist ein wahrer musikalischer Genuss. Freddy Staudigl (Trompete) studierte Trompete an der Wiener Universität für Musik und an[..]
END:VEVENT
END:VCALENDAR