BEGIN:VCALENDAR
VERSION:2.0
PRODID:-//eventon.com NONSGML v1.0//EN
BEGIN:VEVENT
UID:69e86f31e7a3c
DTSTAMP:20260422T084817
DTSTART:20240321T220000Z
DTEND:20240325T215900Z
LOCATION:Salzburg Salzburg
SUMMARY:Straßensammlung\,  Salzburg
DESCRIPTION: Am 22. März 2024 beginnt die Straßensammlung der Malteser in Salzburg. Zahlreiche ehrenamtliche Mitarbeiterinnen und Mitarbeiter werden bis 25. März 2024 in Salzburg um Spenden für die Sozialdienste in Österreich und die Betreuung von Menschen mit Behinderungen\,  Alten\,  Kranken und Obdachlosen bitten. Die Straßensammlung zählt zu den wichtigsten Finanzierungsquellen der[..]
END:VEVENT
END:VCALENDAR