BEGIN:VCALENDAR
VERSION:2.0
PRODID:-//eventon.com NONSGML v1.0//EN
BEGIN:VEVENT
UID:69e7458315df3
DTSTAMP:20260421T113811
DTSTART:20231025T070000Z
DTEND:20231025T120000Z
LOCATION:Rathausplatz Wien Rathausplatz Wien
SUMMARY:Wiener Sicherheitsfest 2023
DESCRIPTION: Wiener Sicherheitsfest 2023 - am 25. Oktober 2023 und 26. Oktober 2023 am Wiener Rathausplatz Termin:  25. Oktober 2023\,  9 bis 14 Uhr 26. Oktober 2023\,  9 bis 17 Uhr Eintritt frei Keine Anmeldung nötig Beim Wiener Sicherheitsfest am Rathausplatz dreht sich alles um das Thema Sicherheit. Die Besucher*innen erwartet am Nationalfeiertag die[..]
END:VEVENT
END:VCALENDAR