BEGIN:VCALENDAR
VERSION:2.0
PRODID:-//eventon.com NONSGML v1.0//EN
BEGIN:VEVENT
UID:69e66850cae93
DTSTAMP:20260420T195424
DTSTART:20221003T170000Z
DTEND:20221003T190000Z
LOCATION:MALTESER Tirol Leopoldstraße 41\,  6020 Innsbruck
SUMMARY:Informationsabend Ausbildung\,  Tirol/Vorarlberg
DESCRIPTION: [vc_row][vc_column][vc_column_text]Es ist wieder soweit! Mit Oktober beginnt nicht nur ein neues Universitätsjahr\,  sondern auch ein weiteres Malteser Ausbildungsjahr! Wer sind die MALTESER? Bei den Maltesern heißt es Miteinander füreinander. Wir betreuen mit Deiner Hilfe kranke\,  ältere und bedürftige Menschen. Zusätzlich sind wir auch im Sanitätswesen tätig. Die Ausbildung dauert ein[..]
END:VEVENT
END:VCALENDAR