BEGIN:VCALENDAR
VERSION:2.0
PRODID:-//eventon.com NONSGML v1.0//EN
BEGIN:VEVENT
UID:69e88c3abe662
DTSTAMP:20260422T105210
DTSTART:20220124T150000Z
DTEND:20220124T190000Z
LOCATION:Malteser Wien 1010 Wien Börseplatz 6
SUMMARY:Verkehrscoaching\,  Wien/NÖ
DESCRIPTION: Wichtiger Hinweis: Im Zuge des Verkehrscoachings ist gemäß der Coronabestimmungen eine FFP2-Maske zu tragen. Das Verkehrscoaching ist ein vier-stündiger Kurs für alkoholauffällige Kraftfahrer im Promillebereich von 0\, 8-1\, 19 – und wird vom zuständigen Führerscheinreferat der Bezirkshauptmannschaft oder dem Verkehrsamt der Landespolizeidirektion angeordnet. Es ist keine Prüfung notwendig um eine Kursbestätigung zu[..]
END:VEVENT
END:VCALENDAR