BEGIN:VCALENDAR
VERSION:2.0
PRODID:-//eventon.com NONSGML v1.0//EN
BEGIN:VEVENT
UID:69e7eef2a4075
DTSTAMP:20260421T234106
DTSTART:20211008T120000Z
DTEND:20211008T150000Z
LOCATION:Malteser Salzburg 5020 Salzburg\,  Imbergstraße 31A
SUMMARY:Verkehrscoaching\,  Salzburg
DESCRIPTION: Das Tragen einer FFP2-Maske ist verpflichtend! Das Verkehrscoaching ist ein vier-stündiger Kurs für alkoholauffällige Kraftfahrer im Promillebereich von 0\, 8-1\, 19 – und wird vom zuständigen Führerscheinreferat der Bezirkshauptmannschaft oder dem Verkehrsamt der Landespolizeidirektion angeordnet. Es ist keine Prüfung notwendig um eine Kursbestätigung zu erhalten. Vollständige Teilnahme und aktive Mitarbeit garantieren den[..]
END:VEVENT
END:VCALENDAR