BEGIN:VCALENDAR
VERSION:2.0
PRODID:-//eventon.com NONSGML v1.0//EN
BEGIN:VEVENT
UID:69e6d4acdae62
DTSTAMP:20260421T033644
DTSTART:20210929T220000Z
DTEND:20211003T215900Z
LOCATION:Amstetten Amstetten\,  Österreich
SUMMARY:2. Virtual Run - Kinderhilfelauf\,  MALTESER Kinderhilfe
DESCRIPTION: Er ist mittlerweile einer der Höhepunkte im jährlichen Veranstaltungsreigen der MALTESER: Der Kinderhilfelauf Anfang Oktober zugunsten der MALTESER Kinderhilfe im Hilde Umdasch Haus. Dieses Jahr\,  so hoffen wir\,  werden sowohl das Laufevent im Umdasch Stadion\,  der 5. Kinderhilfelauf\,  als auch der 2. Virtual Run stattfinden. Der Terminplan sieht wie folgt[..]
END:VEVENT
END:VCALENDAR