BEGIN:VCALENDAR
VERSION:2.0
PRODID:-//eventon.com NONSGML v1.0//EN
BEGIN:VEVENT
UID:69e76a1c0b56d
DTSTAMP:20260421T141420
DTSTART:20210224T150000Z
DTEND:20210224T190000Z
LOCATION:Malteser Wien 1010 Wien Börseplatz 6
SUMMARY:Verkehrscoaching\,  Wien/NÖ
DESCRIPTION: Wichtiger Hinweis: Im Zuge des Verkehrscoachings ist gemäß der Coronabestimmungen eine FFP2-Maske zu tragen. Das Verkehrscoaching ist ein vier-stündiger Kurs für alkoholauffällige Kraftfahrer im Promillebereich von 0\, 8-1\, 19 – und wird vom zuständigen Führerscheinreferat der Bezirkshauptmannschaft oder dem Verkehrsamt der Landespolizeidirektion angeordnet. Es ist keine Prüfung notwendig um eine Kursbestätigung zu[..]
END:VEVENT
END:VCALENDAR