BEGIN:VCALENDAR
VERSION:2.0
PRODID:-//eventon.com NONSGML v1.0//EN
BEGIN:VEVENT
UID:69e70958b1f00
DTSTAMP:20260421T072128
DTSTART:20200930T220000Z
DTEND:20201004T215900Z
LOCATION:Amstetten Amstetten\,  Österreich
SUMMARY:4. Kinderhilfelauf in Amstetten\,  MALTESER Kinderhilfe
DESCRIPTION: MALTESER Kinderhilfelauf – diesmal ganz anders Aufgrund von COVID-19 heuer geänderte Rahmenbedingungen\,  aber der Lauf findet statt. Er ist mittlerweile einer der Höhepunkte im jährlichen Veranstaltungsreigen der MALTESER: der Kinderhilfelauf Anfang Oktober zugunsten der MALTESER Kinderhilfe im Hilde Umdasch Haus. Leider ist dieses Jahr alles anders. Aufgrund der aktuellen COVID-19-Situation[..]
END:VEVENT
END:VCALENDAR