BEGIN:VCALENDAR
VERSION:2.0
PRODID:-//eventon.com NONSGML v1.0//EN
BEGIN:VEVENT
UID:69ea5f37e0aa5
DTSTAMP:20260423T200439
DTSTART:20200705T080000Z
DTEND:20200705T100000Z
LOCATION:Malteserkirche Wien Kärntnerstraße 37\,  1010 Wien
SUMMARY:Ordensmesse\,  Wien
DESCRIPTION: Der monatliche Fixpunkt der MALTESER in Wien\,  die perfekte Möglichkeit gemeinsam die Heilige Messe zu feiern und alles Neue zu erfahren.
END:VEVENT
END:VCALENDAR