BEGIN:VCALENDAR
VERSION:2.0
PRODID:-//eventon.com NONSGML v1.0//EN
BEGIN:VEVENT
UID:69ea025927e91
DTSTAMP:20260423T132825
DTSTART:20191019T130000Z
DTEND:20191019T150000Z
LOCATION:Kirche der Barmherzigen Brüder Herrenstraße 33\,  4020 Linz
SUMMARY:Monatsmesse\,  Öberösterreich
DESCRIPTION: Der monatliche Fixpunkt der MALTESER in Oberösterreich\,  die perfekte Möglichkeit gemeinsam die Heilige Messe zu feiern\,  uns Oberösterreicher kennenzulernen und alles Neue zu erfahren. Danach gemütliches Beisammensein mit Klatsch und Tratsch. Jeden dritten Samstag im Monat um 15:00 Uhr in der Kirche der Barmherzigen Brüder in Linz.
END:VEVENT
END:VCALENDAR