BEGIN:VCALENDAR
VERSION:2.0
PRODID:-//eventon.com NONSGML v1.0//EN
BEGIN:VEVENT
UID:69eca7b319776
DTSTAMP:20260425T133827
DTSTART:20190817T130000Z
DTEND:20190817T150000Z
LOCATION:Kirche der Barmherzigen Brüder Herrenstraße 33\,  4020 Linz
SUMMARY:Monatsmesse\,  Öberösterreich
DESCRIPTION: Der monatliche Fixpunkt der MALTESER in Oberösterreich\,  die perfekte Möglichkeit gemeinsam die Heilige Messe zu feiern\,  uns Oberösterreicher kennenzulernen und alles Neue zu erfahren. Danach gemütliches Beisammensein mit Klatsch und Tratsch. Jeden dritten Samstag im Monat um 15:00 Uhr in der Kirche der Barmherzigen Brüder in Linz.
END:VEVENT
END:VCALENDAR